BEGIN:VCALENDAR
VERSION:2.0
PRODID:-//Randall&#039;s Island - ECPv6.15.17.1//NONSGML v1.0//EN
CALSCALE:GREGORIAN
METHOD:PUBLISH
X-ORIGINAL-URL:https://randallsisland.org
X-WR-CALDESC:Events for Randall&#039;s Island
REFRESH-INTERVAL;VALUE=DURATION:PT1H
X-Robots-Tag:noindex
X-PUBLISHED-TTL:PT1H
BEGIN:VTIMEZONE
TZID:UTC
BEGIN:STANDARD
TZOFFSETFROM:+0000
TZOFFSETTO:+0000
TZNAME:UTC
DTSTART:20230101T000000
END:STANDARD
END:VTIMEZONE
BEGIN:VEVENT
DTSTART;TZID=UTC:20240929T120000
DTEND;TZID=UTC:20240929T150000
DTSTAMP:20260421T122307
CREATED:20240430T135919Z
LAST-MODIFIED:20240911T195932Z
UID:10000701-1727611200-1727622000@randallsisland.org
SUMMARY:Harvest Festival
DESCRIPTION:Join the Randall’s Island Park Alliance for a free\, family-friendly celebration of fall at our Harvest Festival! Get your face painted\, sample fresh farm food\, and take home a pumpkin from our patch! Join us for: \n\nLive music\nArts\, crafts\, and educational activities\nCooking demonstrations\nPumpkin patch and decorations\nFree treats and more!\n\nBike to Randall’s Island! Free Bike Valet is provided by Transportation Alternatives. Bike Valet is like a coat check for your bike. Enjoy the festivities while your bike is safely watched. \nLocation: Fields 62/63 and the Urban Farm \nFor inquiries about accessibility\, to request an accommodation or for event information\, please email publicprograms@randallsisland.org.
URL:https://randallsisland.org/events/harvest-festival
LOCATION:Fields 62/63
CATEGORIES:Arts & Culture,Festival
ATTACH;FMTTYPE=image/png:https://randallsisland.org/wp-content/uploads/2024/04/400-x-400-photos-34.png
GEO:40.7833;-73.92449
END:VEVENT
BEGIN:VEVENT
DTSTART;TZID=UTC:20240929T113000
DTEND;TZID=UTC:20240929T130000
DTSTAMP:20260421T122307
CREATED:20240401T132223Z
LAST-MODIFIED:20240924T123557Z
UID:10000681-1727609400-1727614800@randallsisland.org
SUMMARY:Bike Ride to Harvest Festival
DESCRIPTION:Ride to Harvest Festival with El Barrio Bikes! Meet up at Thomas Jefferson Park in Harlem and enjoy a scenic ride along the riverfront and through the park\, ending at the Festival! \nFree Citi Bikes will be provided thanks to our partnership with Citi Bike\, and we can offer a limited number of free helmets. In order to reserve a bike and helmet\, please email publicprograms@randallsisland.org \nRegistration is required here. \nFree Bike Valet is provided by Transportation Alternatives. Bike Valet is like a coat check for your bike. Enjoy the festivities while your bike is safely watched. \nLocation: Citi Bike Station at the North West corner of Thomas Jefferson Park – 114th and 1st Avenue  \nFor inquiries about accessibility\, to request an accommodation\, or for event information\, please email publicprograms@randallsisland.org.
URL:https://randallsisland.org/events/bike-ride-to-harvest-festival
LOCATION:Citi Bike: E 114th Street and 1st Ave
CATEGORIES:Festival,Fitness
ATTACH;FMTTYPE=image/png:https://randallsisland.org/wp-content/uploads/2024/04/400-x-400-photos-22.png
GEO:40.79488;-73.9363
END:VEVENT
BEGIN:VEVENT
DTSTART;TZID=UTC:20240720T130000
DTEND;TZID=UTC:20240720T140000
DTSTAMP:20260421T122307
CREATED:20240401T134658Z
LAST-MODIFIED:20240623T145652Z
UID:10000685-1721480400-1721484000@randallsisland.org
SUMMARY:Boogie Down Storytime at Waterfront Festival
DESCRIPTION:Bring the family for Storytime in partnership with Boogie Down Books! As part of our Waterfront Festival\, join us for an hour with our local literary experts who will read a themed children’s book and lead a mindfulness and movement activity. \nLocation: East River Picnic Area \nFor inquiries about accessibility\, to request an accommodation\, or for event information\, please email publicprograms@randallsisland.org.
URL:https://randallsisland.org/events/boogie-down-storytime-at-waterfront-festival
LOCATION:East River Picnic Area
CATEGORIES:Arts & Culture,Festival
ATTACH;FMTTYPE=image/png:https://randallsisland.org/wp-content/uploads/2024/04/400-x-400-photos-23.png
GEO:40.783254;-73.934821
END:VEVENT
BEGIN:VEVENT
DTSTART;TZID=UTC:20240720T120000
DTEND;TZID=UTC:20240720T150000
DTSTAMP:20260421T122307
CREATED:20240430T124846Z
LAST-MODIFIED:20240520T145645Z
UID:10000696-1721476800-1721487600@randallsisland.org
SUMMARY:Waterfront Festival
DESCRIPTION:Celebrate water\, science\, and summer fun at Randall’s Island annual Waterfront Festival! All ages and abilities are welcome to kick off the season along the park’s stunning waterfront. Join us for: \n\nLive music\nArts\, crafts\, and educational activities\nInteractive life-sized bubbles\nFree treats\nA live performance by Arm-of-the-Sea Theater and more!\n\nLocation: East River Picnic Area \nFor inquiries about accessibility\, to request an accommodation or for event information\, please email publicprograms@randallsisland.org.
URL:https://randallsisland.org/events/waterfront-festival
LOCATION:East River Picnic Area
CATEGORIES:Arts & Culture,Festival
ATTACH;FMTTYPE=image/png:https://randallsisland.org/wp-content/uploads/2024/04/400-x-400-photos-29-1.png
GEO:40.783254;-73.934821
END:VEVENT
BEGIN:VEVENT
DTSTART;TZID=UTC:20240720T113000
DTEND;TZID=UTC:20240720T130000
DTSTAMP:20260421T122307
CREATED:20240401T131256Z
LAST-MODIFIED:20240702T185552Z
UID:10000680-1721475000-1721480400@randallsisland.org
SUMMARY:Bike Ride to Waterfront Festival
DESCRIPTION:Ride to Waterfront Festival with El Barrio Bikes! Meet up at Thomas Jefferson Park in Harlem and enjoy a scenic ride along the riverfront and through the park\, ending at the Festival! \nRegistration is required here. \nFree Citi Bikes will be provided thanks to our partnership with Citi Bike\, and we can offer a limited number of free helmets. In order to reserve a bike and helmet\, please email publicprograms@randallsisland.org \nLocation: Citi Bike Station at the North West corner of Thomas Jefferson Park – 114th and 1st Avenue  \nFor inquiries about accessibility\, to request an accommodation\, or for event information\, please email publicprograms@randallsisland.org.
URL:https://randallsisland.org/events/bike-ride-to-waterfront-festival
LOCATION:Citi Bike: E 114th Street and 1st Ave
CATEGORIES:Festival,Fitness
ATTACH;FMTTYPE=image/png:https://randallsisland.org/wp-content/uploads/2024/04/400-x-400-photos-22.png
GEO:40.79488;-73.9363
END:VEVENT
BEGIN:VEVENT
DTSTART;TZID=UTC:20240420T130000
DTEND;TZID=UTC:20240420T140000
DTSTAMP:20260421T122307
CREATED:20240401T133844Z
LAST-MODIFIED:20240401T134733Z
UID:10000682-1713618000-1713621600@randallsisland.org
SUMMARY:Boogie Down Storytime at Earth Day Festival
DESCRIPTION:Bring the family for Storytime in partnership with Boogie Down Books! As part of our Earth Day Festival\, join us for an hour with our local literary experts who will read a themed children’s book and lead a mindfulness and movement activity. \nLocation: Urban Farm \nFor inquiries about accessibility\, to request an accommodation\, or for event information\, please email publicprograms@randallsisland.org.
URL:https://randallsisland.org/events/boogie-down-storytime-at-earth-day-festival
LOCATION:Urban Farm
CATEGORIES:Arts & Culture,Festival
ATTACH;FMTTYPE=image/png:https://randallsisland.org/wp-content/uploads/2024/04/400-x-400-photos-23.png
GEO:40.783753;-73.925686
END:VEVENT
BEGIN:VEVENT
DTSTART;TZID=UTC:20240420T120000
DTEND;TZID=UTC:20240420T150000
DTSTAMP:20260421T122307
CREATED:20240228T143226Z
LAST-MODIFIED:20240410T180242Z
UID:10000450-1713614400-1713625200@randallsisland.org
SUMMARY:Earth Day Festival
DESCRIPTION:RIPA’s Earth Day Festival welcomes the warmer months\, celebrates the planet we all share\, and highlights the park’s spring beauty. Explore vibrant seasonal blooms\, enchanting cherry blossoms\, and embrace the spirit of sustainability. Join us for: \n\nLive music\nArts\, crafts\, and educational activities\nCooking demonstrations\nFree treats\n\nAnd more! \nLocation: Fields 62/63 and the Urban Farm \nFor inquiries about accessibility\, to request an accommodation\, or for event information\, please email publicprograms@randallsisland.org.
URL:https://randallsisland.org/events/earth-day-festival
LOCATION:Fields 62/63
CATEGORIES:Arts & Culture,Festival
ATTACH;FMTTYPE=image/png:https://randallsisland.org/wp-content/uploads/2024/02/400-x-400-photos-25.png
GEO:40.7833;-73.92449
END:VEVENT
BEGIN:VEVENT
DTSTART;TZID=UTC:20240420T120000
DTEND;TZID=UTC:20240420T150000
DTSTAMP:20260421T122307
CREATED:20240410T180121Z
LAST-MODIFIED:20240410T180121Z
UID:10000692-1713614400-1713625200@randallsisland.org
SUMMARY:Plant Swap @ Earth Day Festival
DESCRIPTION:Leave a plant and take a plant at Earth Day Festival on Randall’s Island! Participants can make some friends\, play with some soil\, and bring home your own green friend at this fun\, adult-friendly activity. We’ll provide soil to take home or for repotting and some small pots to plant propagations. We’ll provide a limited number of bonus plants for folks who aren’t able to bring one. \nLocation: Field 62 \nFor inquiries about accessibility\, to request an accommodation\, or for event information\, please email publicprograms@randallsisland.org.
URL:https://randallsisland.org/events/plant-swap-earth-day-festival
LOCATION:Fields 62/63
CATEGORIES:Festival
ATTACH;FMTTYPE=image/png:https://randallsisland.org/wp-content/uploads/2024/04/400-x-400-photos-27.png
GEO:40.7833;-73.92449
END:VEVENT
BEGIN:VEVENT
DTSTART;TZID=UTC:20240420T113000
DTEND;TZID=UTC:20240420T130000
DTSTAMP:20260421T122307
CREATED:20240401T130724Z
LAST-MODIFIED:20240410T182735Z
UID:10000679-1713612600-1713618000@randallsisland.org
SUMMARY:Bike Ride to Earth Day Festival
DESCRIPTION:Ride to Earth Day Festival with El Barrio Bikes! Meet up at Thomas Jefferson Park in Harlem and enjoy a scenic ride along the riverfront and through the park\, ending at the Festival!  \nFree Citi Bikes will be provided thanks to our partnership with Citi Bike\, and we can offer a limited number of free helmets. In order to reserve a bike and helmet\, please email publicprograms@randallsisland.org \nRegistration is required here. \nLocation: Citi Bike Station at the North West corner of Thomas Jefferson Park – 114th and 1st Avenue  \nFor inquiries about accessibility\, to request an accommodation\, or for event information\, please email publicprograms@randallsisland.org.
URL:https://randallsisland.org/events/bike-ride-to-earth-day-festival
LOCATION:Citi Bike: E 114th Street and 1st Ave
CATEGORIES:Festival
ATTACH;FMTTYPE=image/png:https://randallsisland.org/wp-content/uploads/2024/04/400-x-400-photos-22.png
GEO:40.79488;-73.9363
END:VEVENT
END:VCALENDAR