BEGIN:VCALENDAR
VERSION:2.0
PRODID:-//Randall&#039;s Island - ECPv6.15.17.1//NONSGML v1.0//EN
CALSCALE:GREGORIAN
METHOD:PUBLISH
X-WR-CALNAME:Randall&#039;s Island
X-ORIGINAL-URL:https://randallsisland.org
X-WR-CALDESC:Events for Randall&#039;s Island
REFRESH-INTERVAL;VALUE=DURATION:PT1H
X-Robots-Tag:noindex
X-PUBLISHED-TTL:PT1H
BEGIN:VTIMEZONE
TZID:UTC
BEGIN:STANDARD
TZOFFSETFROM:+0000
TZOFFSETTO:+0000
TZNAME:UTC
DTSTART:20220101T000000
END:STANDARD
END:VTIMEZONE
BEGIN:VTIMEZONE
TZID:America/New_York
BEGIN:DAYLIGHT
TZOFFSETFROM:-0500
TZOFFSETTO:-0400
TZNAME:EDT
DTSTART:20230312T070000
END:DAYLIGHT
BEGIN:STANDARD
TZOFFSETFROM:-0400
TZOFFSETTO:-0500
TZNAME:EST
DTSTART:20231105T060000
END:STANDARD
BEGIN:DAYLIGHT
TZOFFSETFROM:-0500
TZOFFSETTO:-0400
TZNAME:EDT
DTSTART:20240310T070000
END:DAYLIGHT
BEGIN:STANDARD
TZOFFSETFROM:-0400
TZOFFSETTO:-0500
TZNAME:EST
DTSTART:20241103T060000
END:STANDARD
BEGIN:DAYLIGHT
TZOFFSETFROM:-0500
TZOFFSETTO:-0400
TZNAME:EDT
DTSTART:20250309T070000
END:DAYLIGHT
BEGIN:STANDARD
TZOFFSETFROM:-0400
TZOFFSETTO:-0500
TZNAME:EST
DTSTART:20251102T060000
END:STANDARD
END:VTIMEZONE
BEGIN:VEVENT
DTSTART;TZID=UTC:20240525T100000
DTEND;TZID=UTC:20240525T120000
DTSTAMP:20260420T011721
CREATED:20240210T200149Z
LAST-MODIFIED:20240607T185553Z
UID:10001055-1716631200-1716638400@randallsisland.org
SUMMARY:Jesse Owens Track & Field Youth Program
DESCRIPTION:The Randall’s Island Park Alliance\, in partnership with City Parks Foundation\, continues to offer the Jesse Owens Track and Field Youth Program! This free\, weekly track & field youth program is available to youth ages 8-16 and enables participants to learn the fundamentals of the sport and stay active. Activities will focus on running techniques for sprints and relays and will introduce other track and field activities like long jump\, hurdles\, and long-distance running. \nRegistration is required on LeagueApps with City Parks Foundation. \nChanges to note: Age range is now 8-16 years old. Registration is on LeagueApps instead of Eventbrite. \nLocation: Thomas Jefferson Park \nFor inquiries about accessibility\, to request an accommodation\, or for event information\, please email publicprograms@randallsisland.org.
URL:https://randallsisland.org/events/team-river-volunteers-3/2024-05-25
LOCATION:Thomas Jefferson Park
CATEGORIES:Fitness
ATTACH;FMTTYPE=image/png:https://randallsisland.org/wp-content/uploads/2023/10/400-x-400-photos-23.png
GEO:40.793886;-73.935355
END:VEVENT
BEGIN:VEVENT
DTSTART;TZID=UTC:20240521T183000
DTEND;TZID=UTC:20240521T193000
DTSTAMP:20260420T011721
CREATED:20240430T174322Z
LAST-MODIFIED:20240430T174322Z
UID:10000703-1716316200-1716319800@randallsisland.org
SUMMARY:Yoga in the Park
DESCRIPTION:Stretch\, breathe\, and find your inner peace at our FREE outdoor yoga classes. Just show up\, no registration required! We have a limited number of mats available to lend\, so please bring your own if possible. \nLocation: East River Picnic Area across from the orange public restroom \nFor inquiries about accessibility\, to request an accommodation\, or for event information\, please email publicprograms@randallsisland.org.
URL:https://randallsisland.org/events/yoga-in-the-park-3/2024-05-21
LOCATION:East River Picnic Area – Yoga Location
CATEGORIES:Fitness
ATTACH;FMTTYPE=image/png:https://randallsisland.org/wp-content/uploads/2024/04/400-x-400-photos-35.png
GEO:40.783248;-73.934772
END:VEVENT
BEGIN:VEVENT
DTSTART;TZID=UTC:20240518T100000
DTEND;TZID=UTC:20240518T120000
DTSTAMP:20260420T011721
CREATED:20240210T200149Z
LAST-MODIFIED:20240607T185553Z
UID:10000163-1716026400-1716033600@randallsisland.org
SUMMARY:Jesse Owens Track & Field Youth Program
DESCRIPTION:The Randall’s Island Park Alliance\, in partnership with City Parks Foundation\, continues to offer the Jesse Owens Track and Field Youth Program! This free\, weekly track & field youth program is available to youth ages 8-16 and enables participants to learn the fundamentals of the sport and stay active. Activities will focus on running techniques for sprints and relays and will introduce other track and field activities like long jump\, hurdles\, and long-distance running. \nRegistration is required on LeagueApps with City Parks Foundation. \nChanges to note: Age range is now 8-16 years old. Registration is on LeagueApps instead of Eventbrite. \nLocation: Thomas Jefferson Park \nFor inquiries about accessibility\, to request an accommodation\, or for event information\, please email publicprograms@randallsisland.org.
URL:https://randallsisland.org/events/team-river-volunteers-3/2024-05-18
LOCATION:Thomas Jefferson Park
CATEGORIES:Fitness
ATTACH;FMTTYPE=image/png:https://randallsisland.org/wp-content/uploads/2023/10/400-x-400-photos-23.png
GEO:40.793886;-73.935355
END:VEVENT
BEGIN:VEVENT
DTSTART;TZID=UTC:20240514T183000
DTEND;TZID=UTC:20240514T193000
DTSTAMP:20260420T011721
CREATED:20240430T174322Z
LAST-MODIFIED:20240430T174322Z
UID:10000702-1715711400-1715715000@randallsisland.org
SUMMARY:Yoga in the Park
DESCRIPTION:Stretch\, breathe\, and find your inner peace at our FREE outdoor yoga classes. Just show up\, no registration required! We have a limited number of mats available to lend\, so please bring your own if possible. \nLocation: East River Picnic Area across from the orange public restroom \nFor inquiries about accessibility\, to request an accommodation\, or for event information\, please email publicprograms@randallsisland.org.
URL:https://randallsisland.org/events/yoga-in-the-park-3/2024-05-14
LOCATION:East River Picnic Area – Yoga Location
CATEGORIES:Fitness
ATTACH;FMTTYPE=image/png:https://randallsisland.org/wp-content/uploads/2024/04/400-x-400-photos-35.png
GEO:40.783248;-73.934772
END:VEVENT
BEGIN:VEVENT
DTSTART;TZID=UTC:20240511T100000
DTEND;TZID=UTC:20240511T120000
DTSTAMP:20260420T011721
CREATED:20240210T200149Z
LAST-MODIFIED:20240607T185553Z
UID:10000162-1715421600-1715428800@randallsisland.org
SUMMARY:Jesse Owens Track & Field Youth Program
DESCRIPTION:The Randall’s Island Park Alliance\, in partnership with City Parks Foundation\, continues to offer the Jesse Owens Track and Field Youth Program! This free\, weekly track & field youth program is available to youth ages 8-16 and enables participants to learn the fundamentals of the sport and stay active. Activities will focus on running techniques for sprints and relays and will introduce other track and field activities like long jump\, hurdles\, and long-distance running. \nRegistration is required on LeagueApps with City Parks Foundation. \nChanges to note: Age range is now 8-16 years old. Registration is on LeagueApps instead of Eventbrite. \nLocation: Thomas Jefferson Park \nFor inquiries about accessibility\, to request an accommodation\, or for event information\, please email publicprograms@randallsisland.org.
URL:https://randallsisland.org/events/team-river-volunteers-3/2024-05-11
LOCATION:Thomas Jefferson Park
CATEGORIES:Fitness
ATTACH;FMTTYPE=image/png:https://randallsisland.org/wp-content/uploads/2023/10/400-x-400-photos-23.png
GEO:40.793886;-73.935355
END:VEVENT
BEGIN:VEVENT
DTSTART;TZID=UTC:20240504T100000
DTEND;TZID=UTC:20240504T120000
DTSTAMP:20260420T011721
CREATED:20240210T200149Z
LAST-MODIFIED:20240607T185553Z
UID:10000161-1714816800-1714824000@randallsisland.org
SUMMARY:Jesse Owens Track & Field Youth Program
DESCRIPTION:The Randall’s Island Park Alliance\, in partnership with City Parks Foundation\, continues to offer the Jesse Owens Track and Field Youth Program! This free\, weekly track & field youth program is available to youth ages 8-16 and enables participants to learn the fundamentals of the sport and stay active. Activities will focus on running techniques for sprints and relays and will introduce other track and field activities like long jump\, hurdles\, and long-distance running. \nRegistration is required on LeagueApps with City Parks Foundation. \nChanges to note: Age range is now 8-16 years old. Registration is on LeagueApps instead of Eventbrite. \nLocation: Thomas Jefferson Park \nFor inquiries about accessibility\, to request an accommodation\, or for event information\, please email publicprograms@randallsisland.org.
URL:https://randallsisland.org/events/team-river-volunteers-3/2024-05-04
LOCATION:Thomas Jefferson Park
CATEGORIES:Fitness
ATTACH;FMTTYPE=image/png:https://randallsisland.org/wp-content/uploads/2023/10/400-x-400-photos-23.png
GEO:40.793886;-73.935355
END:VEVENT
BEGIN:VEVENT
DTSTART;TZID=UTC:20240427T100000
DTEND;TZID=UTC:20240427T120000
DTSTAMP:20260420T011721
CREATED:20240210T200149Z
LAST-MODIFIED:20240607T185553Z
UID:10000160-1714212000-1714219200@randallsisland.org
SUMMARY:Jesse Owens Track & Field Youth Program
DESCRIPTION:The Randall’s Island Park Alliance\, in partnership with City Parks Foundation\, continues to offer the Jesse Owens Track and Field Youth Program! This free\, weekly track & field youth program is available to youth ages 8-16 and enables participants to learn the fundamentals of the sport and stay active. Activities will focus on running techniques for sprints and relays and will introduce other track and field activities like long jump\, hurdles\, and long-distance running. \nRegistration is required on LeagueApps with City Parks Foundation. \nChanges to note: Age range is now 8-16 years old. Registration is on LeagueApps instead of Eventbrite. \nLocation: Thomas Jefferson Park \nFor inquiries about accessibility\, to request an accommodation\, or for event information\, please email publicprograms@randallsisland.org.
URL:https://randallsisland.org/events/team-river-volunteers-3/2024-04-27
LOCATION:Thomas Jefferson Park
CATEGORIES:Fitness
ATTACH;FMTTYPE=image/png:https://randallsisland.org/wp-content/uploads/2023/10/400-x-400-photos-23.png
GEO:40.793886;-73.935355
END:VEVENT
BEGIN:VEVENT
DTSTART;TZID=UTC:20240413T090000
DTEND;TZID=UTC:20240413T130000
DTSTAMP:20260420T011721
CREATED:20240410T151024Z
LAST-MODIFIED:20240410T151202Z
UID:10000159-1712998800-1713013200@randallsisland.org
SUMMARY:Jesse Owens Track & Field Youth Program @ Icahn Stadium
DESCRIPTION:The Randall’s Island Park Alliance\, in partnership with City Parks Foundation\, continues to offer the Jesse Owens Track and Field Youth Program! This free\, weekly track & field youth program is available to youth ages 8-16 and enables participants to learn the fundamentals of the sport and stay active. Activities will focus on running techniques for sprints and relays and will introduce other track and field activities like long jump\, hurdles\, and long-distance running. \nPlease register directly with New York Road Runners for this FREE event\, in addition to your Jesse Owens registration. \nRegistration is required on LeagueApps with City Parks Foundation. \nChanges to note: Age range is now 8-16 years old. Registration is on LeagueApps instead of Eventbrite. \nLocation: Icahn Stadium \nFor inquiries about accessibility\, to request an accommodation\, or for event information\, please email publicprograms@randallsisland.org.
URL:https://randallsisland.org/events/jesse-owens-icahn-stadium
LOCATION:Icahn Stadium
CATEGORIES:Fitness
ATTACH;FMTTYPE=image/png:https://randallsisland.org/wp-content/uploads/2023/10/400-x-400-photos-23.png
GEO:40.792778;-73.924666
END:VEVENT
BEGIN:VEVENT
DTSTART;TZID=UTC:20240406T100000
DTEND;TZID=UTC:20240406T120000
DTSTAMP:20260420T011721
CREATED:20240210T200149Z
LAST-MODIFIED:20240607T185553Z
UID:10000158-1712397600-1712404800@randallsisland.org
SUMMARY:Jesse Owens Track & Field Youth Program
DESCRIPTION:The Randall’s Island Park Alliance\, in partnership with City Parks Foundation\, continues to offer the Jesse Owens Track and Field Youth Program! This free\, weekly track & field youth program is available to youth ages 8-16 and enables participants to learn the fundamentals of the sport and stay active. Activities will focus on running techniques for sprints and relays and will introduce other track and field activities like long jump\, hurdles\, and long-distance running. \nRegistration is required on LeagueApps with City Parks Foundation. \nChanges to note: Age range is now 8-16 years old. Registration is on LeagueApps instead of Eventbrite. \nLocation: Thomas Jefferson Park \nFor inquiries about accessibility\, to request an accommodation\, or for event information\, please email publicprograms@randallsisland.org.
URL:https://randallsisland.org/events/team-river-volunteers-3/2024-04-06
LOCATION:Thomas Jefferson Park
CATEGORIES:Fitness
ATTACH;FMTTYPE=image/png:https://randallsisland.org/wp-content/uploads/2023/10/400-x-400-photos-23.png
GEO:40.793886;-73.935355
END:VEVENT
BEGIN:VEVENT
DTSTART;TZID=America/New_York:20240220T150000
DTEND;TZID=America/New_York:20240220T170000
DTSTAMP:20260420T011721
CREATED:20240110T184805Z
LAST-MODIFIED:20240220T203505Z
UID:10000152-1708441200-1708448400@randallsisland.org
SUMMARY:Celebrating  Black History Month: Arts\, Nature and Wellness in Harlem
DESCRIPTION:Join RIPA in this celebration of Black History Month as we uplift the stories and work of our local Black community. We’ll gather at the East Harlem Health Action Center to enjoy food from a local business\, participate in a dance class\, and engage in nature-based activities with our local partners. Create a craft to take home\, play lawn games\, and receive an optional health evaluation. This program is free and accessible to all ages—geared toward families and adults. \nLocation: East Harlem Neighborhood Health Action Center \nFor inquiries about accessibility\, to request an accommodation or for event information\, please email publicprograms@randallsisland.org.
URL:https://randallsisland.org/events/winter-tree-identification
LOCATION:East Harlem Neighborhood Health Action Center\, 158 E 115th Street\, New York\, NY\, 10029\, United States
CATEGORIES:Arts & Culture,Fitness
ATTACH;FMTTYPE=image/png:https://randallsisland.org/wp-content/uploads/2024/01/400-x-400-photos-19.png
END:VEVENT
BEGIN:VEVENT
DTSTART;TZID=UTC:20231219T080000
DTEND;TZID=UTC:20240205T170000
DTSTAMP:20260420T011721
CREATED:20240130T133352Z
LAST-MODIFIED:20240118T153251Z
UID:10000034-1702972800-1707152400@randallsisland.org
SUMMARY:Fall Clean-Up
DESCRIPTION:Join us in celebrating the bright colors and cooler weather of fall. Help us put our natural areas and shorelines to rest for the winter by removing trash and invasive species. Individuals and groups welcome. There will be a short tour of the natural areas after the clean-up.  Registration is required here. \nLocation: East Entrance of Icahn Stadium \nFor inquiries about accessibility\, to request an accommodation or for event information\, please email publicprograms@randallsisland.org.   
URL:https://randallsisland.org/events/fall-clean-up
LOCATION:10 Central Road\, 10 Central Road\, New York\, NY\, 10035\, United States
CATEGORIES:Fitness
ATTACH;FMTTYPE=image/png:https://randallsisland.org/wp-content/uploads/2023/10/Screen-Shot-2023-08-10-at-18.42-1.png
END:VEVENT
END:VCALENDAR