BEGIN:VCALENDAR
VERSION:2.0
PRODID:-//Randall&#039;s Island - ECPv6.15.20//NONSGML v1.0//EN
CALSCALE:GREGORIAN
METHOD:PUBLISH
X-WR-CALNAME:Randall&#039;s Island
X-ORIGINAL-URL:https://randallsisland.org
X-WR-CALDESC:Events for Randall&#039;s Island
REFRESH-INTERVAL;VALUE=DURATION:PT1H
X-Robots-Tag:noindex
X-PUBLISHED-TTL:PT1H
BEGIN:VTIMEZONE
TZID:UTC
BEGIN:STANDARD
TZOFFSETFROM:+0000
TZOFFSETTO:+0000
TZNAME:UTC
DTSTART:20250101T000000
END:STANDARD
END:VTIMEZONE
BEGIN:VEVENT
DTSTART;TZID=UTC:20260801T100000
DTEND;TZID=UTC:20260801T110000
DTSTAMP:20260426T020958
CREATED:20260224T211124Z
LAST-MODIFIED:20260224T211246Z
UID:10002156-1785578400-1785582000@randallsisland.org
SUMMARY:Yoga in the Park
DESCRIPTION:Stretch\, breathe\, and find your inner peace at Randall’s Island Park’s free outdoor yoga series. Guided by a beloved\, local yoga instructor\, participants will flow through a calming and grounding sequence against the backdrop of the uptown skyline. All levels and abilities are welcome. Bring a friend\, family member or two\, or your yoga-loving pet!  \nNo registration required—just show up ready to move! We’ll have water and a limited number of mats available to borrow\, so please bring your own if possible or show up early to claim one.  \nOur free yoga classes run weekly on Tuesdays from 6:30 – 7:30 pm from May 5 – September 1\, and Saturdays from 10:00 – 11:00 am\, July 4 – August 29. On Saturdays\, stay after and join our dance class! Please check Instagram for the most updated schedule.  \n Location: East River Picnic Area  \nFor inquiries about accessibility\, to request an accommodation\, or for event information\, please email publicprograms@randallsisland.org. 
URL:https://randallsisland.org/events/yoga-in-the-park-saturdays/2026-08-01
LOCATION:East River Picnic Area – Yoga Location
CATEGORIES:Fitness,Health & Wellness
ATTACH;FMTTYPE=image/png:https://randallsisland.org/wp-content/uploads/2026/02/400-x-400-photos-7.png
GEO:40.783248;-73.934772
END:VEVENT
BEGIN:VEVENT
DTSTART;TZID=UTC:20260804T183000
DTEND;TZID=UTC:20260804T193000
DTSTAMP:20260426T020958
CREATED:20260224T210857Z
LAST-MODIFIED:20260224T210857Z
UID:10002129-1785868200-1785871800@randallsisland.org
SUMMARY:Yoga in the Park
DESCRIPTION:Stretch\, breathe\, and find your inner peace at Randall’s Island Park’s free outdoor yoga series. Guided by a beloved\, local yoga instructor\, participants will flow through a calming and grounding sequence against the backdrop of the uptown skyline. All levels and abilities are welcome. Bring a friend\, family member or two\, or your yoga-loving pet!  \nNo registration required—just show up ready to move! We’ll have water and a limited number of mats available to borrow\, so please bring your own if possible or show up early to claim one.  \nOur free yoga classes run weekly on Tuesdays from 6:30 – 7:30 pm from May 5 – September 1\, and Saturdays from 10:00 – 11:00 am\, July 4 – August 29. On Saturdays\, stay after and join our dance class! Please check Instagram for the most updated schedule.  \n Location: East River Picnic Area  \nFor inquiries about accessibility\, to request an accommodation\, or for event information\, please email publicprograms@randallsisland.org. 
URL:https://randallsisland.org/events/yoga-in-the-park-2026-tuesdays/2026-08-04
LOCATION:East River Picnic Area – Yoga Location
CATEGORIES:Fitness,Health & Wellness
ATTACH;FMTTYPE=image/png:https://randallsisland.org/wp-content/uploads/2026/02/400-x-400-photos-7.png
GEO:40.783248;-73.934772
END:VEVENT
BEGIN:VEVENT
DTSTART;TZID=UTC:20260808T100000
DTEND;TZID=UTC:20260808T110000
DTSTAMP:20260426T020958
CREATED:20260224T211124Z
LAST-MODIFIED:20260224T211246Z
UID:10002157-1786183200-1786186800@randallsisland.org
SUMMARY:Yoga in the Park
DESCRIPTION:Stretch\, breathe\, and find your inner peace at Randall’s Island Park’s free outdoor yoga series. Guided by a beloved\, local yoga instructor\, participants will flow through a calming and grounding sequence against the backdrop of the uptown skyline. All levels and abilities are welcome. Bring a friend\, family member or two\, or your yoga-loving pet!  \nNo registration required—just show up ready to move! We’ll have water and a limited number of mats available to borrow\, so please bring your own if possible or show up early to claim one.  \nOur free yoga classes run weekly on Tuesdays from 6:30 – 7:30 pm from May 5 – September 1\, and Saturdays from 10:00 – 11:00 am\, July 4 – August 29. On Saturdays\, stay after and join our dance class! Please check Instagram for the most updated schedule.  \n Location: East River Picnic Area  \nFor inquiries about accessibility\, to request an accommodation\, or for event information\, please email publicprograms@randallsisland.org. 
URL:https://randallsisland.org/events/yoga-in-the-park-saturdays/2026-08-08
LOCATION:East River Picnic Area – Yoga Location
CATEGORIES:Fitness,Health & Wellness
ATTACH;FMTTYPE=image/png:https://randallsisland.org/wp-content/uploads/2026/02/400-x-400-photos-7.png
GEO:40.783248;-73.934772
END:VEVENT
BEGIN:VEVENT
DTSTART;TZID=UTC:20260811T183000
DTEND;TZID=UTC:20260811T193000
DTSTAMP:20260426T020958
CREATED:20260224T210857Z
LAST-MODIFIED:20260224T210857Z
UID:10002130-1786473000-1786476600@randallsisland.org
SUMMARY:Yoga in the Park
DESCRIPTION:Stretch\, breathe\, and find your inner peace at Randall’s Island Park’s free outdoor yoga series. Guided by a beloved\, local yoga instructor\, participants will flow through a calming and grounding sequence against the backdrop of the uptown skyline. All levels and abilities are welcome. Bring a friend\, family member or two\, or your yoga-loving pet!  \nNo registration required—just show up ready to move! We’ll have water and a limited number of mats available to borrow\, so please bring your own if possible or show up early to claim one.  \nOur free yoga classes run weekly on Tuesdays from 6:30 – 7:30 pm from May 5 – September 1\, and Saturdays from 10:00 – 11:00 am\, July 4 – August 29. On Saturdays\, stay after and join our dance class! Please check Instagram for the most updated schedule.  \n Location: East River Picnic Area  \nFor inquiries about accessibility\, to request an accommodation\, or for event information\, please email publicprograms@randallsisland.org. 
URL:https://randallsisland.org/events/yoga-in-the-park-2026-tuesdays/2026-08-11
LOCATION:East River Picnic Area – Yoga Location
CATEGORIES:Fitness,Health & Wellness
ATTACH;FMTTYPE=image/png:https://randallsisland.org/wp-content/uploads/2026/02/400-x-400-photos-7.png
GEO:40.783248;-73.934772
END:VEVENT
BEGIN:VEVENT
DTSTART;TZID=UTC:20260815T100000
DTEND;TZID=UTC:20260815T110000
DTSTAMP:20260426T020958
CREATED:20260224T211124Z
LAST-MODIFIED:20260224T211246Z
UID:10002158-1786788000-1786791600@randallsisland.org
SUMMARY:Yoga in the Park
DESCRIPTION:Stretch\, breathe\, and find your inner peace at Randall’s Island Park’s free outdoor yoga series. Guided by a beloved\, local yoga instructor\, participants will flow through a calming and grounding sequence against the backdrop of the uptown skyline. All levels and abilities are welcome. Bring a friend\, family member or two\, or your yoga-loving pet!  \nNo registration required—just show up ready to move! We’ll have water and a limited number of mats available to borrow\, so please bring your own if possible or show up early to claim one.  \nOur free yoga classes run weekly on Tuesdays from 6:30 – 7:30 pm from May 5 – September 1\, and Saturdays from 10:00 – 11:00 am\, July 4 – August 29. On Saturdays\, stay after and join our dance class! Please check Instagram for the most updated schedule.  \n Location: East River Picnic Area  \nFor inquiries about accessibility\, to request an accommodation\, or for event information\, please email publicprograms@randallsisland.org. 
URL:https://randallsisland.org/events/yoga-in-the-park-saturdays/2026-08-15
LOCATION:East River Picnic Area – Yoga Location
CATEGORIES:Fitness,Health & Wellness
ATTACH;FMTTYPE=image/png:https://randallsisland.org/wp-content/uploads/2026/02/400-x-400-photos-7.png
GEO:40.783248;-73.934772
END:VEVENT
BEGIN:VEVENT
DTSTART;TZID=UTC:20260818T183000
DTEND;TZID=UTC:20260818T193000
DTSTAMP:20260426T020958
CREATED:20260224T210857Z
LAST-MODIFIED:20260224T210857Z
UID:10002131-1787077800-1787081400@randallsisland.org
SUMMARY:Yoga in the Park
DESCRIPTION:Stretch\, breathe\, and find your inner peace at Randall’s Island Park’s free outdoor yoga series. Guided by a beloved\, local yoga instructor\, participants will flow through a calming and grounding sequence against the backdrop of the uptown skyline. All levels and abilities are welcome. Bring a friend\, family member or two\, or your yoga-loving pet!  \nNo registration required—just show up ready to move! We’ll have water and a limited number of mats available to borrow\, so please bring your own if possible or show up early to claim one.  \nOur free yoga classes run weekly on Tuesdays from 6:30 – 7:30 pm from May 5 – September 1\, and Saturdays from 10:00 – 11:00 am\, July 4 – August 29. On Saturdays\, stay after and join our dance class! Please check Instagram for the most updated schedule.  \n Location: East River Picnic Area  \nFor inquiries about accessibility\, to request an accommodation\, or for event information\, please email publicprograms@randallsisland.org. 
URL:https://randallsisland.org/events/yoga-in-the-park-2026-tuesdays/2026-08-18
LOCATION:East River Picnic Area – Yoga Location
CATEGORIES:Fitness,Health & Wellness
ATTACH;FMTTYPE=image/png:https://randallsisland.org/wp-content/uploads/2026/02/400-x-400-photos-7.png
GEO:40.783248;-73.934772
END:VEVENT
BEGIN:VEVENT
DTSTART;TZID=UTC:20260820T180000
DTEND;TZID=UTC:20260820T200000
DTSTAMP:20260426T020958
CREATED:20260313T193957Z
LAST-MODIFIED:20260313T194105Z
UID:10002177-1787248800-1787256000@randallsisland.org
SUMMARY:Community Track Night
DESCRIPTION:Walk\, run\, or jog in this “Icahnic” stadium at our free community track night! Join us on the new track at Icahn Stadium—a track that has hosted the Olympic Trials\, has seen records set by Jesse Owens\, Meseret Defar\, and Usain Bolt\, hosted ATHLOS New York City for two straight years\, and will host this years USA Track and Field Championships!   \nFollow your own training plan or join Harlem Run for a workout from 6:45 – 7:45pm.  \nLocation: Icahn Stadium \nRunners of all abilities are welcome (must be 18 or older to participate).   
URL:https://randallsisland.org/events/community-track-night-4/2026-08-20
LOCATION:Icahn Stadium
CATEGORIES:Health & Wellness,Icahn Stadium
ATTACH;FMTTYPE=image/png:https://randallsisland.org/wp-content/uploads/2026/03/400-x-400-photos-22.png
GEO:40.792778;-73.924666
END:VEVENT
BEGIN:VEVENT
DTSTART;TZID=UTC:20260822T100000
DTEND;TZID=UTC:20260822T110000
DTSTAMP:20260426T020958
CREATED:20260224T211124Z
LAST-MODIFIED:20260224T211246Z
UID:10002159-1787392800-1787396400@randallsisland.org
SUMMARY:Yoga in the Park
DESCRIPTION:Stretch\, breathe\, and find your inner peace at Randall’s Island Park’s free outdoor yoga series. Guided by a beloved\, local yoga instructor\, participants will flow through a calming and grounding sequence against the backdrop of the uptown skyline. All levels and abilities are welcome. Bring a friend\, family member or two\, or your yoga-loving pet!  \nNo registration required—just show up ready to move! We’ll have water and a limited number of mats available to borrow\, so please bring your own if possible or show up early to claim one.  \nOur free yoga classes run weekly on Tuesdays from 6:30 – 7:30 pm from May 5 – September 1\, and Saturdays from 10:00 – 11:00 am\, July 4 – August 29. On Saturdays\, stay after and join our dance class! Please check Instagram for the most updated schedule.  \n Location: East River Picnic Area  \nFor inquiries about accessibility\, to request an accommodation\, or for event information\, please email publicprograms@randallsisland.org. 
URL:https://randallsisland.org/events/yoga-in-the-park-saturdays/2026-08-22
LOCATION:East River Picnic Area – Yoga Location
CATEGORIES:Fitness,Health & Wellness
ATTACH;FMTTYPE=image/png:https://randallsisland.org/wp-content/uploads/2026/02/400-x-400-photos-7.png
GEO:40.783248;-73.934772
END:VEVENT
BEGIN:VEVENT
DTSTART;TZID=UTC:20260825T183000
DTEND;TZID=UTC:20260825T193000
DTSTAMP:20260426T020958
CREATED:20260224T210857Z
LAST-MODIFIED:20260224T210857Z
UID:10002132-1787682600-1787686200@randallsisland.org
SUMMARY:Yoga in the Park
DESCRIPTION:Stretch\, breathe\, and find your inner peace at Randall’s Island Park’s free outdoor yoga series. Guided by a beloved\, local yoga instructor\, participants will flow through a calming and grounding sequence against the backdrop of the uptown skyline. All levels and abilities are welcome. Bring a friend\, family member or two\, or your yoga-loving pet!  \nNo registration required—just show up ready to move! We’ll have water and a limited number of mats available to borrow\, so please bring your own if possible or show up early to claim one.  \nOur free yoga classes run weekly on Tuesdays from 6:30 – 7:30 pm from May 5 – September 1\, and Saturdays from 10:00 – 11:00 am\, July 4 – August 29. On Saturdays\, stay after and join our dance class! Please check Instagram for the most updated schedule.  \n Location: East River Picnic Area  \nFor inquiries about accessibility\, to request an accommodation\, or for event information\, please email publicprograms@randallsisland.org. 
URL:https://randallsisland.org/events/yoga-in-the-park-2026-tuesdays/2026-08-25
LOCATION:East River Picnic Area – Yoga Location
CATEGORIES:Fitness,Health & Wellness
ATTACH;FMTTYPE=image/png:https://randallsisland.org/wp-content/uploads/2026/02/400-x-400-photos-7.png
GEO:40.783248;-73.934772
END:VEVENT
BEGIN:VEVENT
DTSTART;TZID=UTC:20260829T100000
DTEND;TZID=UTC:20260829T110000
DTSTAMP:20260426T020958
CREATED:20260224T211124Z
LAST-MODIFIED:20260224T211246Z
UID:10002160-1787997600-1788001200@randallsisland.org
SUMMARY:Yoga in the Park
DESCRIPTION:Stretch\, breathe\, and find your inner peace at Randall’s Island Park’s free outdoor yoga series. Guided by a beloved\, local yoga instructor\, participants will flow through a calming and grounding sequence against the backdrop of the uptown skyline. All levels and abilities are welcome. Bring a friend\, family member or two\, or your yoga-loving pet!  \nNo registration required—just show up ready to move! We’ll have water and a limited number of mats available to borrow\, so please bring your own if possible or show up early to claim one.  \nOur free yoga classes run weekly on Tuesdays from 6:30 – 7:30 pm from May 5 – September 1\, and Saturdays from 10:00 – 11:00 am\, July 4 – August 29. On Saturdays\, stay after and join our dance class! Please check Instagram for the most updated schedule.  \n Location: East River Picnic Area  \nFor inquiries about accessibility\, to request an accommodation\, or for event information\, please email publicprograms@randallsisland.org. 
URL:https://randallsisland.org/events/yoga-in-the-park-saturdays/2026-08-29
LOCATION:East River Picnic Area – Yoga Location
CATEGORIES:Fitness,Health & Wellness
ATTACH;FMTTYPE=image/png:https://randallsisland.org/wp-content/uploads/2026/02/400-x-400-photos-7.png
GEO:40.783248;-73.934772
END:VEVENT
END:VCALENDAR