BEGIN:VCALENDAR
VERSION:2.0
PRODID:-//Randall&#039;s Island - ECPv6.15.17.1//NONSGML v1.0//EN
CALSCALE:GREGORIAN
METHOD:PUBLISH
X-WR-CALNAME:Randall&#039;s Island
X-ORIGINAL-URL:https://randallsisland.org
X-WR-CALDESC:Events for Randall&#039;s Island
REFRESH-INTERVAL;VALUE=DURATION:PT1H
X-Robots-Tag:noindex
X-PUBLISHED-TTL:PT1H
BEGIN:VTIMEZONE
TZID:UTC
BEGIN:STANDARD
TZOFFSETFROM:+0000
TZOFFSETTO:+0000
TZNAME:UTC
DTSTART:20250101T000000
END:STANDARD
END:VTIMEZONE
BEGIN:VEVENT
DTSTART;TZID=UTC:20260501T140000
DTEND;TZID=UTC:20260501T210000
DTSTAMP:20260423T015706
CREATED:20260203T183832Z
LAST-MODIFIED:20260203T183832Z
UID:10001736-1777644000-1777669200@randallsisland.org
SUMMARY:Trials of Miles Track Night NYC
DESCRIPTION:Trials of Miles returns to Icahn Stadium in what will be a full day of explosive competition between high school level athletes in the afternoon followed by athletes of all ages competing in the evening! \nFor more information visit their website.
URL:https://randallsisland.org/events/trials-of-miles-track-night-nyc
LOCATION:Icahn Stadium
CATEGORIES:Icahn Stadium
ATTACH;FMTTYPE=image/png:https://randallsisland.org/wp-content/uploads/2026/02/400-x-400-photos-18.png
GEO:40.792778;-73.924666
END:VEVENT
BEGIN:VEVENT
DTSTART;TZID=UTC:20260502T090000
DTEND;TZID=UTC:20260502T150000
DTSTAMP:20260423T015706
CREATED:20260203T194554Z
LAST-MODIFIED:20260203T194554Z
UID:10001737-1777712400-1777734000@randallsisland.org
SUMMARY:CUNY Championship
DESCRIPTION:New York City’s best CUNY collegiate athletes compete to take home the 2026 CUNY Outdoor Championship! \nFor more information visit their website.
URL:https://randallsisland.org/events/cuny-championship-2
LOCATION:Icahn Stadium
CATEGORIES:Icahn Stadium
ATTACH;FMTTYPE=image/png:https://randallsisland.org/wp-content/uploads/2026/02/400-x-400-photos-20.png
GEO:40.792778;-73.924666
END:VEVENT
BEGIN:VEVENT
DTSTART;TZID=UTC:20260502T153000
DTEND;TZID=UTC:20260502T203000
DTSTAMP:20260423T015706
CREATED:20260203T195558Z
LAST-MODIFIED:20260203T195558Z
UID:10001738-1777735800-1777753800@randallsisland.org
SUMMARY:Youth Challenge Series #3 - Spring Fling Challenge
DESCRIPTION:The Youth Challenge Series continues with the Spring Fling Challenge at Icahn Stadium!
URL:https://randallsisland.org/events/youth-challenge-series-3-spring-fling-challenge
LOCATION:Icahn Stadium
CATEGORIES:Icahn Stadium
ATTACH;FMTTYPE=image/png:https://randallsisland.org/wp-content/uploads/2026/02/400-x-400-photos-21.png
GEO:40.792778;-73.924666
END:VEVENT
BEGIN:VEVENT
DTSTART;TZID=UTC:20260503T090000
DTEND;TZID=UTC:20260503T160000
DTSTAMP:20260423T015706
CREATED:20260203T202923Z
LAST-MODIFIED:20260203T202923Z
UID:10001740-1777798800-1777824000@randallsisland.org
SUMMARY:PSAL Manhattan Borough Championship
DESCRIPTION:The top PSAL student athletes from Manhattan compete for the Public Schools Athletic League Manhattan Borough Championship!
URL:https://randallsisland.org/events/psal-manhattan-borough-championship
LOCATION:Icahn Stadium
CATEGORIES:Icahn Stadium
ATTACH;FMTTYPE=image/jpeg:https://randallsisland.org/wp-content/uploads/2026/02/DSC06103-1-scaled.jpg
GEO:40.792778;-73.924666
END:VEVENT
BEGIN:VEVENT
DTSTART;TZID=UTC:20260503T090000
DTEND;TZID=UTC:20260503T160000
DTSTAMP:20260423T015706
CREATED:20260203T201921Z
LAST-MODIFIED:20260203T202755Z
UID:10001739-1777798800-1777824000@randallsisland.org
SUMMARY:PSAL Queens Borough Championship
DESCRIPTION:The top PSAL student athletes from Queens compete for the Public Schools Athletic League Queens Borough Championship!
URL:https://randallsisland.org/events/psal-queens-borough-championship
LOCATION:Icahn Stadium
CATEGORIES:Icahn Stadium
ATTACH;FMTTYPE=image/png:https://randallsisland.org/wp-content/uploads/2026/02/400-x-400-photos-22.png
GEO:40.792778;-73.924666
END:VEVENT
BEGIN:VEVENT
DTSTART;TZID=UTC:20260509T090000
DTEND;TZID=UTC:20260509T150000
DTSTAMP:20260423T015706
CREATED:20260203T203448Z
LAST-MODIFIED:20260203T203448Z
UID:10001741-1778317200-1778338800@randallsisland.org
SUMMARY:CHSAA Frosh/Soph Intersectional Championship
DESCRIPTION:Featuring the best CHSAA schools from the Brooklyn and Queens area\, Icahn Stadium hosts the Catholic High School Athletic Association NYBQ Frosh/Soph Intersectional Championship!
URL:https://randallsisland.org/events/chsaa-frosh-soph-intersectional-championship
LOCATION:Icahn Stadium
CATEGORIES:Icahn Stadium
ATTACH;FMTTYPE=image/jpeg:https://randallsisland.org/wp-content/uploads/2026/02/DSC03519-scaled.jpg
GEO:40.792778;-73.924666
END:VEVENT
BEGIN:VEVENT
DTSTART;TZID=UTC:20260509T160000
DTEND;TZID=UTC:20260509T200000
DTSTAMP:20260423T015706
CREATED:20260203T204513Z
LAST-MODIFIED:20260203T204513Z
UID:10001742-1778342400-1778356800@randallsisland.org
SUMMARY:Youth Challenge Series #4 - Northeast Invitational
DESCRIPTION:The Youth Challenge Series continues with the Northeast Invitational at Icahn Stadium!
URL:https://randallsisland.org/events/youth-challenge-series-4-northeast-invitational
LOCATION:Icahn Stadium
CATEGORIES:Icahn Stadium
ATTACH;FMTTYPE=image/png:https://randallsisland.org/wp-content/uploads/2026/02/400-x-400-photos-23.png
GEO:40.792778;-73.924666
END:VEVENT
BEGIN:VEVENT
DTSTART;TZID=UTC:20260510T090000
DTEND;TZID=UTC:20260510T160000
DTSTAMP:20260423T015706
CREATED:20260203T205951Z
LAST-MODIFIED:20260203T205951Z
UID:10001743-1778403600-1778428800@randallsisland.org
SUMMARY:PSAL Bronx Borough Championship
DESCRIPTION:The top PSAL student athletes from the Bronx compete for the Public Schools Athletic League Bronx Borough Championship!
URL:https://randallsisland.org/events/psal-bronx-borough-championship
LOCATION:Icahn Stadium
CATEGORIES:Icahn Stadium
ATTACH;FMTTYPE=image/png:https://randallsisland.org/wp-content/uploads/2026/02/400-x-400-photos-24.png
GEO:40.792778;-73.924666
END:VEVENT
BEGIN:VEVENT
DTSTART;TZID=UTC:20260513T160000
DTEND;TZID=UTC:20260513T200000
DTSTAMP:20260423T015706
CREATED:20260203T210548Z
LAST-MODIFIED:20260203T210548Z
UID:10001744-1778688000-1778702400@randallsisland.org
SUMMARY:Ivy League Championship
DESCRIPTION:Ivy League Prep Schools face off at Icahn Stadium to determine which school will become Outdoor Champion of 2026!
URL:https://randallsisland.org/events/ivy-league-championship
LOCATION:Icahn Stadium
CATEGORIES:Icahn Stadium
ATTACH;FMTTYPE=image/png:https://randallsisland.org/wp-content/uploads/2026/02/400-x-400-photos-25.png
GEO:40.792778;-73.924666
END:VEVENT
BEGIN:VEVENT
DTSTART;TZID=UTC:20260515T160000
DTEND;TZID=UTC:20260515T190000
DTSTAMP:20260423T015706
CREATED:20260203T211307Z
LAST-MODIFIED:20260203T211307Z
UID:10001745-1778860800-1778871600@randallsisland.org
SUMMARY:AAIS Championship
DESCRIPTION:The AAIS Outdoor Season concludes with the Athletic Association of Independent Schools Championship at Icahn Stadium!
URL:https://randallsisland.org/events/aais-championship
LOCATION:Icahn Stadium
CATEGORIES:Icahn Stadium
ATTACH;FMTTYPE=image/png:https://randallsisland.org/wp-content/uploads/2026/02/400-x-400-photos-26.png
GEO:40.792778;-73.924666
END:VEVENT
BEGIN:VEVENT
DTSTART;TZID=UTC:20260516T090000
DTEND;TZID=UTC:20260516T140000
DTSTAMP:20260423T015706
CREATED:20260203T212659Z
LAST-MODIFIED:20260203T212659Z
UID:10001746-1778922000-1778940000@randallsisland.org
SUMMARY:CHSAA NYBQ Sectional Championship
DESCRIPTION:Featuring the best CHSAA schools from the Brooklyn and Queens area\, Icahn Stadium hosts the Catholic High School Athletic Association NYBQ Sectional Championship!
URL:https://randallsisland.org/events/chsaa-nybq-sectional-championship
LOCATION:Icahn Stadium
CATEGORIES:Icahn Stadium
ATTACH;FMTTYPE=image/png:https://randallsisland.org/wp-content/uploads/2026/02/400-x-400-photos-27.png
GEO:40.792778;-73.924666
END:VEVENT
BEGIN:VEVENT
DTSTART;TZID=UTC:20260517T090000
DTEND;TZID=UTC:20260517T160000
DTSTAMP:20260423T015706
CREATED:20260203T213307Z
LAST-MODIFIED:20260203T213307Z
UID:10001747-1779008400-1779033600@randallsisland.org
SUMMARY:PSAL Brooklyn Borough Championship
DESCRIPTION:The top PSAL student athletes from Brooklyn compete for the Public Schools Athletic League Brooklyn Borough Championship!
URL:https://randallsisland.org/events/psal-brooklyn-borough-championship
LOCATION:Icahn Stadium
CATEGORIES:Icahn Stadium
ATTACH;FMTTYPE=image/png:https://randallsisland.org/wp-content/uploads/2026/02/400-x-400-photos-28.png
GEO:40.792778;-73.924666
END:VEVENT
BEGIN:VEVENT
DTSTART;TZID=UTC:20260518T153000
DTEND;TZID=UTC:20260518T183000
DTSTAMP:20260423T015706
CREATED:20260204T165132Z
LAST-MODIFIED:20260204T165132Z
UID:10001748-1779118200-1779129000@randallsisland.org
SUMMARY:The Gotham Games
DESCRIPTION:Some of New York’s top youth talent will be on display at The Gotham Games at Icahn Stadium!
URL:https://randallsisland.org/events/the-gotham-games
LOCATION:Icahn Stadium
CATEGORIES:Icahn Stadium
ATTACH;FMTTYPE=image/png:https://randallsisland.org/wp-content/uploads/2026/02/400-x-400-photos-29.png
GEO:40.792778;-73.924666
END:VEVENT
BEGIN:VEVENT
DTSTART;TZID=UTC:20260520T130000
DTEND;TZID=UTC:20260520T190000
DTSTAMP:20260423T015706
CREATED:20260204T170315Z
LAST-MODIFIED:20260204T170315Z
UID:10001749-1779282000-1779303600@randallsisland.org
SUMMARY:NYSAISAA Championship
DESCRIPTION:The New York State Association of Independent Schools Athletic Association Championship will take place in Icahn Stadium on May 20th!
URL:https://randallsisland.org/events/nysaisaa-championship
LOCATION:Icahn Stadium
CATEGORIES:Icahn Stadium
ATTACH;FMTTYPE=image/png:https://randallsisland.org/wp-content/uploads/2026/02/400-x-400-photos-30.png
GEO:40.792778;-73.924666
END:VEVENT
BEGIN:VEVENT
DTSTART;TZID=UTC:20260521T163000
DTEND;TZID=UTC:20260521T203000
DTSTAMP:20260423T015706
CREATED:20260204T181533Z
LAST-MODIFIED:20260204T181533Z
UID:10001750-1779381000-1779395400@randallsisland.org
SUMMARY:PSAL Multi-events City Championship
DESCRIPTION:Competing in hurdles\, shot put\, high jump\, and more the Public School Athletic League’s top multi-event student athletes compete for the Multi-event Championship!
URL:https://randallsisland.org/events/psal-multi-events-city-championship
LOCATION:Icahn Stadium
CATEGORIES:Icahn Stadium
ATTACH;FMTTYPE=image/png:https://randallsisland.org/wp-content/uploads/2026/02/400-x-400-photos-31.png
GEO:40.792778;-73.924666
END:VEVENT
BEGIN:VEVENT
DTSTART;TZID=UTC:20260523T100000
DTEND;TZID=UTC:20260523T150000
DTSTAMP:20260423T015706
CREATED:20260204T185253Z
LAST-MODIFIED:20260204T185253Z
UID:10001751-1779530400-1779548400@randallsisland.org
SUMMARY:CHSAA Intersectional Championship
DESCRIPTION:The CHSAA season comes to a close as New York’s top Catholic high schools battle for the Catholic High School Athletic Association Intersectional Championship!
URL:https://randallsisland.org/events/chsaa-intersectional-championship
LOCATION:Icahn Stadium
CATEGORIES:Icahn Stadium
ATTACH;FMTTYPE=image/png:https://randallsisland.org/wp-content/uploads/2026/02/400-x-400-photos-32.png
GEO:40.792778;-73.924666
END:VEVENT
BEGIN:VEVENT
DTSTART;TZID=UTC:20260524T083000
DTEND;TZID=UTC:20260524T163000
DTSTAMP:20260423T015706
CREATED:20260204T190910Z
LAST-MODIFIED:20260204T190910Z
UID:10001752-1779611400-1779640200@randallsisland.org
SUMMARY:PSAL City Championship
DESCRIPTION:New York City public high schools from all five boroughs clash for the Public Schools Athletic League City Championship at Icahn Stadium to conclude the Outdoor Season!
URL:https://randallsisland.org/events/psal-city-championship
LOCATION:Icahn Stadium
CATEGORIES:Icahn Stadium
ATTACH;FMTTYPE=image/png:https://randallsisland.org/wp-content/uploads/2026/02/400-x-400-photos-33.png
GEO:40.792778;-73.924666
END:VEVENT
BEGIN:VEVENT
DTSTART;TZID=UTC:20260530T160000
DTEND;TZID=UTC:20260530T210000
DTSTAMP:20260423T015706
CREATED:20260205T154145Z
LAST-MODIFIED:20260205T154145Z
UID:10001756-1780156800-1780174800@randallsisland.org
SUMMARY:USATF New York Association Championship Junior Olympics Qualifier
DESCRIPTION:Icahn Stadium hosts the USATF New York Association Championship Junior Olympics Qualifier as New York’s top youth talent compete in their quest to the National Championship!
URL:https://randallsisland.org/events/usatf-new-york-association-championship-junior-olympics-qualifier-2
LOCATION:Icahn Stadium
CATEGORIES:Icahn Stadium
ATTACH;FMTTYPE=image/png:https://randallsisland.org/wp-content/uploads/2026/02/400-x-400-photos-37.png
GEO:40.792778;-73.924666
END:VEVENT
BEGIN:VEVENT
DTSTART;TZID=UTC:20260531T090000
DTEND;TZID=UTC:20260531T170000
DTSTAMP:20260423T015706
CREATED:20260205T160517Z
LAST-MODIFIED:20260205T160517Z
UID:10001757-1780218000-1780246800@randallsisland.org
SUMMARY:USATF New York Association Championship Junior Olympics Qualifier
DESCRIPTION:Icahn Stadium hosts the USATF New York Association Championship Junior Olympics Qualifier as New York’s top youth talent compete in their quest to the National Championship!
URL:https://randallsisland.org/events/usatf-new-york-association-championship-junior-olympics-qualifier-3
LOCATION:Icahn Stadium
CATEGORIES:Icahn Stadium
ATTACH;FMTTYPE=image/png:https://randallsisland.org/wp-content/uploads/2026/02/400-x-400-photos-38.png
GEO:40.792778;-73.924666
END:VEVENT
END:VCALENDAR