BEGIN:VCALENDAR
VERSION:2.0
PRODID:-//Randall&#039;s Island - ECPv6.15.20//NONSGML v1.0//EN
CALSCALE:GREGORIAN
METHOD:PUBLISH
X-ORIGINAL-URL:https://randallsisland.org
X-WR-CALDESC:Events for Randall&#039;s Island
REFRESH-INTERVAL;VALUE=DURATION:PT1H
X-Robots-Tag:noindex
X-PUBLISHED-TTL:PT1H
BEGIN:VTIMEZONE
TZID:UTC
BEGIN:STANDARD
TZOFFSETFROM:+0000
TZOFFSETTO:+0000
TZNAME:UTC
DTSTART:20250101T000000
END:STANDARD
END:VTIMEZONE
BEGIN:VEVENT
DTSTART;VALUE=DATE:20260603
DTEND;VALUE=DATE:20260604
DTSTAMP:20260423T202905
CREATED:20260205T182040Z
LAST-MODIFIED:20260318T175221Z
UID:10001758-1780444800-1780531199@randallsisland.org
SUMMARY:Global Running Day
DESCRIPTION:Global Running Day is a worldwide celebration of running that encourages everyone to get moving. It doesn’t matter how fast you run or how far you go. The important thing is that you get out\, have fun being active\, and inspire others to join you! \nVisit globalrunningday.org to explore ways to celebrate on Randall’s Island Park! 
URL:https://randallsisland.org/events/global-running-day
LOCATION:Icahn Stadium
CATEGORIES:Icahn Stadium
ATTACH;FMTTYPE=image/png:https://randallsisland.org/wp-content/uploads/2026/02/400-x-400-photos-39.png
GEO:40.792778;-73.924666
END:VEVENT
BEGIN:VEVENT
DTSTART;TZID=UTC:20260610T180000
DTEND;TZID=UTC:20260610T200000
DTSTAMP:20260423T202905
CREATED:20260313T193957Z
LAST-MODIFIED:20260313T194105Z
UID:10002175-1781114400-1781121600@randallsisland.org
SUMMARY:Community Track Night
DESCRIPTION:Walk\, run\, or jog in this “Icahnic” stadium at our free community track night! Join us on the new track at Icahn Stadium—a track that has hosted the Olympic Trials\, has seen records set by Jesse Owens\, Meseret Defar\, and Usain Bolt\, hosted ATHLOS New York City for two straight years\, and will host this years USA Track and Field Championships!   \nFollow your own training plan or join Harlem Run for a workout from 6:45 – 7:45pm.  \nLocation: Icahn Stadium \nRunners of all abilities are welcome (must be 18 or older to participate).   
URL:https://randallsisland.org/events/community-track-night-4/2026-06-10
LOCATION:Icahn Stadium
CATEGORIES:Health & Wellness,Icahn Stadium
ATTACH;FMTTYPE=image/png:https://randallsisland.org/wp-content/uploads/2026/03/400-x-400-photos-22.png
GEO:40.792778;-73.924666
END:VEVENT
BEGIN:VEVENT
DTSTART;TZID=UTC:20260621T170000
DTEND;TZID=UTC:20260621T193000
DTSTAMP:20260423T202905
CREATED:20260130T160544Z
LAST-MODIFIED:20260130T174317Z
UID:10001717-1782061200-1782070200@randallsisland.org
SUMMARY:New York City FC II vs Chattanooga FC
DESCRIPTION:MLS Next Pro returns to Icahn Stadium! Join us for New York City FC II’s Icahn Stadium season opener as they host Chattanooga FC! \nTravel to Randall’s Island Park to see some of the best soccer NYC has to offer!
URL:https://randallsisland.org/events/new-york-city-fc-ii-vs-chattanooga-fc-2
LOCATION:Icahn Stadium
CATEGORIES:Icahn Stadium,Soccer
ATTACH;FMTTYPE=image/png:https://randallsisland.org/wp-content/uploads/2026/01/400-x-400-photos-7.png
GEO:40.792778;-73.924666
END:VEVENT
END:VCALENDAR