BEGIN:VCALENDAR
VERSION:2.0
PRODID:-//Randall&#039;s Island - ECPv6.15.20//NONSGML v1.0//EN
CALSCALE:GREGORIAN
METHOD:PUBLISH
X-ORIGINAL-URL:https://randallsisland.org
X-WR-CALDESC:Events for Randall&#039;s Island
REFRESH-INTERVAL;VALUE=DURATION:PT1H
X-Robots-Tag:noindex
X-PUBLISHED-TTL:PT1H
BEGIN:VTIMEZONE
TZID:UTC
BEGIN:STANDARD
TZOFFSETFROM:+0000
TZOFFSETTO:+0000
TZNAME:UTC
DTSTART:20250101T000000
END:STANDARD
END:VTIMEZONE
BEGIN:VEVENT
DTSTART;TZID=UTC:20260708T180000
DTEND;TZID=UTC:20260708T200000
DTSTAMP:20260423T220432
CREATED:20260313T193957Z
LAST-MODIFIED:20260313T194105Z
UID:10002176-1783533600-1783540800@randallsisland.org
SUMMARY:Community Track Night
DESCRIPTION:Walk\, run\, or jog in this “Icahnic” stadium at our free community track night! Join us on the new track at Icahn Stadium—a track that has hosted the Olympic Trials\, has seen records set by Jesse Owens\, Meseret Defar\, and Usain Bolt\, hosted ATHLOS New York City for two straight years\, and will host this years USA Track and Field Championships!   \nFollow your own training plan or join Harlem Run for a workout from 6:45 – 7:45pm.  \nLocation: Icahn Stadium \nRunners of all abilities are welcome (must be 18 or older to participate).   
URL:https://randallsisland.org/events/community-track-night-4/2026-07-08
LOCATION:Icahn Stadium
CATEGORIES:Health & Wellness,Icahn Stadium
ATTACH;FMTTYPE=image/png:https://randallsisland.org/wp-content/uploads/2026/03/400-x-400-photos-22.png
GEO:40.792778;-73.924666
END:VEVENT
BEGIN:VEVENT
DTSTART;TZID=UTC:20260718T120000
DTEND;TZID=UTC:20260718T143000
DTSTAMP:20260423T220432
CREATED:20260130T173247Z
LAST-MODIFIED:20260211T191401Z
UID:10001724-1784376000-1784385000@randallsisland.org
SUMMARY:Gotham FC vs Seattle Reign FC
DESCRIPTION:Come to Icahn Stadium to see Gotham FC\, one of the world’s premiere women’s soccer clubs\, take on Seattle Reign FC in a NWSL matchup!
URL:https://randallsisland.org/events/gotham-fc-vs-seattle-reign-fc
LOCATION:Icahn Stadium
CATEGORIES:Icahn Stadium,Soccer
ATTACH;FMTTYPE=image/png:https://randallsisland.org/wp-content/uploads/2026/01/400-x-400-photos-40.png
GEO:40.792778;-73.924666
END:VEVENT
BEGIN:VEVENT
DTSTART;VALUE=DATE:20260723
DTEND;VALUE=DATE:20260727
DTSTAMP:20260423T220432
CREATED:20260210T183942Z
LAST-MODIFIED:20260210T184751Z
UID:10001759-1784764800-1785110399@randallsisland.org
SUMMARY:2026 Toyota USATF Outdoor and Para National Championship
DESCRIPTION:The 2026 Toyota USATF Outdoor and Para National Championships will come to New York City for the first time in the event’s history\, USA Track & Field announced today. The event\, held in collaboration with USATF-New York\, Randall’s Island Park Alliance\, Central Park Track Club and New York Road Runners will be held July 23-26 at Icahn Stadium at Randall’s Island Park. \nDetails and ticketing information will be available at a later date. \nLocation: Icahn Stadium
URL:https://randallsisland.org/events/2026-toyota-usatf-outdoor-and-para-national-championship
LOCATION:Icahn Stadium
CATEGORIES:Icahn Stadium
ATTACH;FMTTYPE=image/jpeg:https://randallsisland.org/wp-content/uploads/2026/02/DSC03396-scaled.jpg
GEO:40.792778;-73.924666
END:VEVENT
END:VCALENDAR